BEGIN:VCALENDAR
VERSION:2.0
PRODID:-//TRL Oregon - ECPv6.15.20//NONSGML v1.0//EN
CALSCALE:GREGORIAN
METHOD:PUBLISH
X-ORIGINAL-URL:https://or.thereadingleague.org
X-WR-CALDESC:Events for TRL Oregon
REFRESH-INTERVAL;VALUE=DURATION:PT1H
X-Robots-Tag:noindex
X-PUBLISHED-TTL:PT1H
BEGIN:VTIMEZONE
TZID:America/Los_Angeles
BEGIN:DAYLIGHT
TZOFFSETFROM:-0800
TZOFFSETTO:-0700
TZNAME:PDT
DTSTART:20240310T100000
END:DAYLIGHT
BEGIN:STANDARD
TZOFFSETFROM:-0700
TZOFFSETTO:-0800
TZNAME:PST
DTSTART:20241103T090000
END:STANDARD
BEGIN:DAYLIGHT
TZOFFSETFROM:-0800
TZOFFSETTO:-0700
TZNAME:PDT
DTSTART:20250309T100000
END:DAYLIGHT
BEGIN:STANDARD
TZOFFSETFROM:-0700
TZOFFSETTO:-0800
TZNAME:PST
DTSTART:20251102T090000
END:STANDARD
BEGIN:DAYLIGHT
TZOFFSETFROM:-0800
TZOFFSETTO:-0700
TZNAME:PDT
DTSTART:20260308T100000
END:DAYLIGHT
BEGIN:STANDARD
TZOFFSETFROM:-0700
TZOFFSETTO:-0800
TZNAME:PST
DTSTART:20261101T090000
END:STANDARD
END:VTIMEZONE
BEGIN:VEVENT
DTSTART;TZID=America/Los_Angeles:20250618T160000
DTEND;TZID=America/Los_Angeles:20250618T170000
DTSTAMP:20260421T190318
CREATED:20250525T213354Z
LAST-MODIFIED:20250525T215506Z
UID:51228-1750262400-1750266000@or.thereadingleague.org
SUMMARY:The Reading League Chapter Network Summer Book Study Virtual Kick-off
DESCRIPTION:Join The Reading League Chapter Network for a free\, virtual book study on MTSS for Reading Improvement: A Leader’s Tool Kit for Schoolwide Success by Sarah Brown and Stephanie Stollar. This step-by-step guide will help you and your team build a strong foundation in the science of reading\, provide tools you can use to implement effective tiered supports\, and empower you to lead meaningful\, schoolwide change. \nRegister today and join us on June 18 for a live\, virtual kickoff!
URL:https://or.thereadingleague.org/calendar/the-reading-league-chapter-network-summer-book-study-virtual-kick-off/
LOCATION:OR
END:VEVENT
END:VCALENDAR