BEGIN:VCALENDAR
VERSION:2.0
PRODID:-//TRL Oregon - ECPv6.15.20//NONSGML v1.0//EN
CALSCALE:GREGORIAN
METHOD:PUBLISH
X-ORIGINAL-URL:https://or.thereadingleague.org
X-WR-CALDESC:Events for TRL Oregon
REFRESH-INTERVAL;VALUE=DURATION:PT1H
X-Robots-Tag:noindex
X-PUBLISHED-TTL:PT1H
BEGIN:VTIMEZONE
TZID:America/Los_Angeles
BEGIN:DAYLIGHT
TZOFFSETFROM:-0800
TZOFFSETTO:-0700
TZNAME:PDT
DTSTART:20240310T100000
END:DAYLIGHT
BEGIN:STANDARD
TZOFFSETFROM:-0700
TZOFFSETTO:-0800
TZNAME:PST
DTSTART:20241103T090000
END:STANDARD
BEGIN:DAYLIGHT
TZOFFSETFROM:-0800
TZOFFSETTO:-0700
TZNAME:PDT
DTSTART:20250309T100000
END:DAYLIGHT
BEGIN:STANDARD
TZOFFSETFROM:-0700
TZOFFSETTO:-0800
TZNAME:PST
DTSTART:20251102T090000
END:STANDARD
BEGIN:DAYLIGHT
TZOFFSETFROM:-0800
TZOFFSETTO:-0700
TZNAME:PDT
DTSTART:20260308T100000
END:DAYLIGHT
BEGIN:STANDARD
TZOFFSETFROM:-0700
TZOFFSETTO:-0800
TZNAME:PST
DTSTART:20261101T090000
END:STANDARD
END:VTIMEZONE
BEGIN:VEVENT
DTSTART;TZID=America/Los_Angeles:20250723T160000
DTEND;TZID=America/Los_Angeles:20250723T170000
DTSTAMP:20260421T141543
CREATED:20250531T155738Z
LAST-MODIFIED:20250531T160118Z
UID:51234-1753286400-1753290000@or.thereadingleague.org
SUMMARY:The Reading League Chapter Network Summer Book Study Part 2
DESCRIPTION:The Reading League chapter network is excited to bring you a unique learning opportunity this summer! Join chapters nationwide for a virtual book study on MTSS for Reading Improvement: A Leader’s Toolkit for Schoolwide Success by Dr. Sarah Brown and Dr. Stephanie Stollar. \n\nBook Study Kickoff: Wed.\, June 18 @ 7 pm ET\nPart 1 Q&A with the Authors: Wed.\, July 16 @ 7 pm ET\nPart 2 Q&A with the Authors: Wed.\, July 23 @ 7 pm ET\nPart 3 Q&A with the Authors: Wed.\, July 30 @ 7 pm ET\n\nEach week\, you’ll receive an email with the Zoom meeting link to join us live and dive into the content of this new book with the authors—one part at a time. You’ll also receive questions to guide your reading\, additional resources related to the content\, and\, after each virtual session\, a link to watch the conversations with Dr. Brown and Dr. Stollar. You can read\, watch\, and explore on your own time—whenever it works best for you!
URL:https://or.thereadingleague.org/calendar/the-reading-league-chapter-network-summer-book-study-part-2/
LOCATION:OR
END:VEVENT
END:VCALENDAR