BEGIN:VCALENDAR
VERSION:2.0
PRODID:-//TRL Oregon - ECPv6.15.20//NONSGML v1.0//EN
CALSCALE:GREGORIAN
METHOD:PUBLISH
X-WR-CALNAME:TRL Oregon
X-ORIGINAL-URL:https://or.thereadingleague.org
X-WR-CALDESC:Events for TRL Oregon
REFRESH-INTERVAL;VALUE=DURATION:PT1H
X-Robots-Tag:noindex
X-PUBLISHED-TTL:PT1H
BEGIN:VTIMEZONE
TZID:America/Los_Angeles
BEGIN:DAYLIGHT
TZOFFSETFROM:-0800
TZOFFSETTO:-0700
TZNAME:PDT
DTSTART:20240310T100000
END:DAYLIGHT
BEGIN:STANDARD
TZOFFSETFROM:-0700
TZOFFSETTO:-0800
TZNAME:PST
DTSTART:20241103T090000
END:STANDARD
BEGIN:DAYLIGHT
TZOFFSETFROM:-0800
TZOFFSETTO:-0700
TZNAME:PDT
DTSTART:20250309T100000
END:DAYLIGHT
BEGIN:STANDARD
TZOFFSETFROM:-0700
TZOFFSETTO:-0800
TZNAME:PST
DTSTART:20251102T090000
END:STANDARD
BEGIN:DAYLIGHT
TZOFFSETFROM:-0800
TZOFFSETTO:-0700
TZNAME:PDT
DTSTART:20260308T100000
END:DAYLIGHT
BEGIN:STANDARD
TZOFFSETFROM:-0700
TZOFFSETTO:-0800
TZNAME:PST
DTSTART:20261101T090000
END:STANDARD
END:VTIMEZONE
BEGIN:VEVENT
DTSTART;TZID=America/Los_Angeles:20250811T170000
DTEND;TZID=America/Los_Angeles:20250811T180000
DTSTAMP:20260421T154204
CREATED:20250712T214719Z
LAST-MODIFIED:20250712T215421Z
UID:51238-1754931600-1754935200@or.thereadingleague.org
SUMMARY:The Reading League Oregon Summer Book Study Wrap-up
DESCRIPTION:Join The Reading League Oregon for the final summer book study session as we explore MTSS implementation in Oregon schools. Review the information from The Reading League summer book study Padlet before attending the session.
URL:https://or.thereadingleague.org/calendar/the-reading-league-oregon-summer-book-study-wrap-up/
LOCATION:OR
END:VEVENT
END:VCALENDAR